BEGIN:VCALENDAR
VERSION:2.0
PRODID:-//NADI Kampung Limau Kasturi - ECPv6.15.13.1//NONSGML v1.0//EN
CALSCALE:GREGORIAN
METHOD:PUBLISH
X-WR-CALNAME:NADI Kampung Limau Kasturi
X-ORIGINAL-URL:https://kglimaukasturi.nadi.my
X-WR-CALDESC:Events for NADI Kampung Limau Kasturi
REFRESH-INTERVAL;VALUE=DURATION:PT1H
X-Robots-Tag:noindex
X-PUBLISHED-TTL:PT1H
BEGIN:VTIMEZONE
TZID:UTC
BEGIN:STANDARD
TZOFFSETFROM:+0000
TZOFFSETTO:+0000
TZNAME:UTC
DTSTART:20250101T000000
END:STANDARD
END:VTIMEZONE
BEGIN:VEVENT
DTSTART;TZID=UTC:20260128T153000
DTEND;TZID=UTC:20260128T163000
DTSTAMP:20260424T145738
CREATED:20260120T033221Z
LAST-MODIFIED:20260120T033221Z
UID:4106-1769614200-1769617800@kglimaukasturi.nadi.my
SUMMARY:OPEN TUITION - SEJARAH (TINGKATAN 1-5)
DESCRIPTION:
URL:https://kglimaukasturi.nadi.my/event/open-tuition-sejarah-tingkatan-1-5/
LOCATION:NADI KAMPUNG LIMAU KASTURI\, NADI KAMPUNG LIMAU KASTURI
END:VEVENT
END:VCALENDAR